
BEGIN:VCALENDAR
VERSION:2.0
PRODID:-//Campaign To Stop Killer Robots - ECPv5.1.1//NONSGML v1.0//EN
CALSCALE:GREGORIAN
METHOD:PUBLISH
X-WR-CALNAME:Campaign To Stop Killer Robots
X-ORIGINAL-URL:https://www.stopkillerrobots.org
X-WR-CALDESC:Events for Campaign To Stop Killer Robots
BEGIN:VTIMEZONE
TZID:UTC
BEGIN:STANDARD
TZOFFSETFROM:+0000
TZOFFSETTO:+0000
TZNAME:UTC
DTSTART:20210101T000000
END:STANDARD
END:VTIMEZONE
BEGIN:VEVENT
DTSTART;TZID=UTC:20210325T140000
DTEND;TZID=UTC:20210325T150000
DTSTAMP:20210507T071607
CREATED:20210320T003621Z
LAST-MODIFIED:20210320T003621Z
UID:14252-1616680800-1616684400@www.stopkillerrobots.org
SUMMARY:Meaning-less Human Control: Lessons from Air Defence Systems for LAWS
DESCRIPTION:\n\n\n\nDrone Wars UK and  the Center for War Studies of University of Southern Denmark are hosting an online event on Thursday 25 March at 2pm (GMT) to discuss their recently co-published report\, Meaning-less human control: Lessons from air defence systems for Lethal Autonomous Weapon Systems (LAWS). \nThe report draws on a new data catalogue constructed by the report’s authors\, Ingvild Bode and Tom Watts\, to examine automation and autonomy in 28 air defence systems used across the world\, and analyses high-profile failures of such systems including the downing of Iran Air Flight 655 (1988)\, Malaysian Airlines MH 17 (2014)\, Ukrainian Airlines PS752 (2020)\, and two instances of fratricide involving the Patriot Air Defense System in the Second Gulf War (2003).  Its central argument is that the integration of autonomy and automation into the critical functions of air defense systems has\, under some conditions\, made human control over specific use of force decisions increasingly meaningless. \n\n\n\n\n\n\n\n\nFollowing the panel discussion there will be a Q&A session. \nThe event is open to the public and registrations can be made here. Please see the online event page for how to access the webinar on zoom. \nChair: \n\nDr Peter Burt (Researcher: Drone Wars UK)\n\nPanel:      \n\nDr Ingvild Bode (Associate Professor of International Relations: Centre for War Studies\, University of Southern Denmark)\nMaaike Verbruggen TBC (Doctoral Researcher: International Security\, Institute for European Studies )\nRichard Moyes (Managing Director: Article 36)\n\nFor more information contact: info@dronewars.net \n\n\n\n\n
URL:https://www.stopkillerrobots.org/calendar/meaning-less-human-control-lessons-from-air-defence-systems-for-laws/
LOCATION:Online
CATEGORIES:Panel
ATTACH;FMTTYPE=image/jpeg:https://www.stopkillerrobots.org/wp-content/uploads/2021/03/Drone-Wars-UK-event.jpg
END:VEVENT
END:VCALENDAR