
BEGIN:VCALENDAR
VERSION:2.0
PRODID:-//Campaign To Stop Killer Robots - ECPv5.1.1//NONSGML v1.0//EN
CALSCALE:GREGORIAN
METHOD:PUBLISH
X-WR-CALNAME:Campaign To Stop Killer Robots
X-ORIGINAL-URL:https://www.stopkillerrobots.org
X-WR-CALDESC:Events for Campaign To Stop Killer Robots
BEGIN:VTIMEZONE
TZID:America/Los_Angeles
BEGIN:DAYLIGHT
TZOFFSETFROM:-0800
TZOFFSETTO:-0700
TZNAME:PDT
DTSTART:20210314T100000
END:DAYLIGHT
BEGIN:STANDARD
TZOFFSETFROM:-0700
TZOFFSETTO:-0800
TZNAME:PST
DTSTART:20211107T090000
END:STANDARD
END:VTIMEZONE
BEGIN:VEVENT
DTSTART;TZID=America/Los_Angeles:20210915T090000
DTEND;TZID=America/Los_Angeles:20210915T170000
DTSTAMP:20211012T200252
CREATED:20210915T172334Z
LAST-MODIFIED:20210920T175550Z
UID:14878-1631696400-1631725200@www.stopkillerrobots.org
SUMMARY:Fire and Fury\, Throwing a Monkey Wrench at Big Tech!
DESCRIPTION:Join Ethics in Technology for an all-day virtual event with activist and community leaders speaking on what matters most as it relates to surveillance\, war and peace. The event will be held on Wednesday 15 September. Please register here to attend. \nSpeakers include: \n\nVahid Razavi Director of Ethics In Technology\nDoctor Martin Todd Allen\, Associate Minister at the Church for the Fellowship of All Peoples\nBrett Wilkins\, Ethics In Tech Board Member\nDoctor Karen Melander Magoon\, Poetry\nTauriq Jenkins\, Chair at AIXARRA Restorative Justice Forum\, Centre for African Studies\, University of Cape Town\nAlbert Fox\, Founder and Executive Director of Surveillance Technology Oversight Project ( S.T.O.P.)\nTracy Rosenberg\, Co-coordinator and Advocacy Director at Oakland Privacy and Media Alliance\nAJ Rice\, privacy advocate and the Founder & CEO of Privo Mobile – a tech startup making a dumb phone for modern times\, designed for kids. AJ is a privacy ambassador for PDX Privacy – a non-profit focused on advocating for privacy and increasing transparency on the use of surveillance in the Portland area. AJ is also author of the privacy blog Private Matters.\nMike Rufo Advisor to Ethics In Tech\nFarah Bogani(she/her/hers)\, Project Officer for the Campaign to Stop Killer Robots\nAdrienne Kinne\, President\, Veterans for Peace Board of Directors\nCodePink Carley Towne\, National Co-Director of CODEPINK\nCristina Deptula\, Ethics in Tech Board Member\n\nComedians include: \n\nMean Dave is a stand-up comedian. He is a regular at Cobb’s Comedy Club\, Punch Line in SF and Sacramento and has opened for headliners such as Judy Tenuta\, Eddie Pepitone\, Big Jay Oakerson\, Dan Soder\, Allan Havey\, Tom Rhodes\, Neil Hamburger\, Josh Blue\, Brent Morin\, Bret Ernst and most importantly\, Barry Sobel. Most of Dave’s life has been littered with utter disappointment and flat out betrayal that only a sarcastic\, cynical sense of humor can remedy. Hopefully this information helps you in your decision as to whether Mean Dave’s comedy will help\nNina G is a comedian\, professional speaker\, and author. She is comfortable performing stand-up comedy\, doing book readings at a library or talking to elementary school age children about disability awareness. She has performed and spoke across the world and is an acclaimed keynote speaker on disability issues. With two Tedx Talks\, a performance at the Presidential Inauguration Ceremony in 2021 and the release of her book Stutterer Interrupted: The Comedian Who Almost Didn’t Happen\, Nina is both funny and professional.\n\n
URL:https://www.stopkillerrobots.org/calendar/fire-and-fury-throwing-a-monkey-wrench-at-big-tech/
CATEGORIES:Conference
ATTACH;FMTTYPE=image/png:https://www.stopkillerrobots.org/wp-content/uploads/2021/09/https___cdn.evbuc_.com_images_144796073_34445329216_1_original-_1_.png
END:VEVENT
END:VCALENDAR